Package: ConsensusClusterPlus Version: 1.72.0 Command: /Library/Frameworks/R.framework/Resources/bin/R CMD build --keep-empty-dirs --no-resave-data ConsensusClusterPlus StartedAt: 2025-10-02 21:53:33 -0400 (Thu, 02 Oct 2025) EndedAt: 2025-10-02 21:53:50 -0400 (Thu, 02 Oct 2025) EllapsedTime: 16.6 seconds RetCode: 0 Status: OK PackageFile: ConsensusClusterPlus_1.72.0.tar.gz PackageFileSize: 382.6 KiB