Package: CompoundDb Version: 1.11.2 Command: E:\biocbuild\bbs-3.21-bioc\R\bin\R.exe CMD INSTALL CompoundDb StartedAt: 2025-02-20 16:50:01 -0500 (Thu, 20 Feb 2025) EndedAt: 2025-02-20 16:50:57 -0500 (Thu, 20 Feb 2025) EllapsedTime: 56.2 seconds RetCode: 0 Status: OK