Package: CompoundDb Version: 1.11.2 Command: rm -rf CompoundDb.buildbin-libdir && mkdir CompoundDb.buildbin-libdir && E:\biocbuild\bbs-3.21-bioc\R\bin\R.exe CMD INSTALL --build --library=CompoundDb.buildbin-libdir CompoundDb_1.11.2.tar.gz StartedAt: 2025-02-21 07:51:07 -0500 (Fri, 21 Feb 2025) EndedAt: 2025-02-21 07:52:14 -0500 (Fri, 21 Feb 2025) EllapsedTime: 66.7 seconds RetCode: 0 Status: OK PackageFile: CompoundDb_1.11.2.zip PackageFileSize: 1.458 MiB