Package: CompoundDb Version: 1.11.2 Command: /home/biocbuild/bbs-3.21-bioc/R/bin/R CMD INSTALL CompoundDb StartedAt: 2025-02-20 15:46:23 -0500 (Thu, 20 Feb 2025) EndedAt: 2025-02-20 15:46:43 -0500 (Thu, 20 Feb 2025) EllapsedTime: 19.5 seconds RetCode: 0 Status: OK