Package: CompoundDb Version: 1.11.2 Command: /home/biocbuild/bbs-3.21-bioc/R/bin/R CMD check --install=check:CompoundDb.install-out.txt --library=/home/biocbuild/bbs-3.21-bioc/R/site-library --timings CompoundDb_1.11.2.tar.gz StartedAt: 2025-02-20 20:59:30 -0500 (Thu, 20 Feb 2025) EndedAt: 2025-02-20 21:02:17 -0500 (Thu, 20 Feb 2025) EllapsedTime: 166.3 seconds RetCode: 0 Status: OK CheckDir: CompoundDb.Rcheck Warnings: 0