Package: CompoundDb Version: 1.11.2 Command: /Library/Frameworks/R.framework/Resources/bin/R CMD INSTALL CompoundDb StartedAt: 2025-02-20 15:38:50 -0500 (Thu, 20 Feb 2025) EndedAt: 2025-02-20 15:39:18 -0500 (Thu, 20 Feb 2025) EllapsedTime: 28.1 seconds RetCode: 0 Status: OK