Package: CompoundDb Version: 1.11.2 Command: /Library/Frameworks/R.framework/Resources/bin/R CMD check --install=check:CompoundDb.install-out.txt --library=/Library/Frameworks/R.framework/Resources/library --no-vignettes --timings CompoundDb_1.11.2.tar.gz StartedAt: 2025-02-20 19:38:18 -0500 (Thu, 20 Feb 2025) EndedAt: 2025-02-20 19:41:08 -0500 (Thu, 20 Feb 2025) EllapsedTime: 169.9 seconds RetCode: 0 Status: OK CheckDir: CompoundDb.Rcheck Warnings: 0