Package: CompoundDb Version: 1.11.2 Command: /Library/Frameworks/R.framework/Resources/bin/R CMD build --keep-empty-dirs --no-resave-data CompoundDb StartedAt: 2025-02-20 16:18:22 -0500 (Thu, 20 Feb 2025) EndedAt: 2025-02-20 16:19:09 -0500 (Thu, 20 Feb 2025) EllapsedTime: 46.9 seconds RetCode: 0 Status: OK PackageFile: CompoundDb_1.11.2.tar.gz PackageFileSize: 1.303 MiB