Package: CompoundDb Version: 1.12.1 Command: /home/biocbuild/R/R/bin/R CMD INSTALL CompoundDb StartedAt: 2025-10-06 20:49:20 -0000 (Mon, 06 Oct 2025) EndedAt: 2025-10-06 20:49:50 -0000 (Mon, 06 Oct 2025) EllapsedTime: 29.4 seconds RetCode: 0 Status: OK