Package: CompoundDb Version: 1.12.1 Command: /home/biocbuild/R/R/bin/R CMD build --keep-empty-dirs --no-resave-data CompoundDb StartedAt: 2025-10-06 23:50:52 -0000 (Mon, 06 Oct 2025) EndedAt: 2025-10-06 23:51:42 -0000 (Mon, 06 Oct 2025) EllapsedTime: 50.0 seconds RetCode: 0 Status: OK PackageFile: CompoundDb_1.12.1.tar.gz PackageFileSize: 1.431 MiB