Package: ComplexHeatmap Version: 2.23.0 Command: E:\biocbuild\bbs-3.21-bioc\R\bin\R.exe CMD check --no-multiarch --install=check:ComplexHeatmap.install-out.txt --library=E:\biocbuild\bbs-3.21-bioc\R\library --no-vignettes --timings ComplexHeatmap_2.23.0.tar.gz StartedAt: 2025-02-19 23:53:39 -0500 (Wed, 19 Feb 2025) EndedAt: 2025-02-20 00:00:51 -0500 (Thu, 20 Feb 2025) EllapsedTime: 432.1 seconds RetCode: 0 Status: OK CheckDir: ComplexHeatmap.Rcheck Warnings: 0