Package: ComplexHeatmap Version: 2.23.0 Command: rm -rf ComplexHeatmap.buildbin-libdir && mkdir ComplexHeatmap.buildbin-libdir && E:\biocbuild\bbs-3.21-bioc\R\bin\R.exe CMD INSTALL --build --library=ComplexHeatmap.buildbin-libdir ComplexHeatmap_2.23.0.tar.gz StartedAt: 2025-02-20 07:32:34 -0500 (Thu, 20 Feb 2025) EndedAt: 2025-02-20 07:39:10 -0500 (Thu, 20 Feb 2025) EllapsedTime: 396.7 seconds RetCode: 0 Status: OK PackageFile: ComplexHeatmap_2.23.0.zip PackageFileSize: 2.985 MiB