Package: ComPrAn Version: 1.15.0 Command: chmod a+r ComPrAn -R && E:\biocbuild\bbs-3.21-bioc\R\bin\R.exe CMD build --keep-empty-dirs --no-resave-data ComPrAn StartedAt: 2025-02-17 17:56:01 -0500 (Mon, 17 Feb 2025) EndedAt: 2025-02-17 17:56:41 -0500 (Mon, 17 Feb 2025) EllapsedTime: 40.3 seconds RetCode: 0 Status: OK PackageFile: ComPrAn_1.15.0.tar.gz PackageFileSize: 3.053 MiB