Package: ComPrAn Version: 1.15.0 Command: rm -rf ComPrAn.buildbin-libdir && mkdir ComPrAn.buildbin-libdir && /Users/biocbuild/BBS/utils/build-universal.sh ComPrAn_1.15.0.tar.gz /Library/Frameworks/R.framework/Resources/bin/R ComPrAn.buildbin-libdir StartedAt: 2025-02-20 00:26:33 -0500 (Thu, 20 Feb 2025) EndedAt: 2025-02-20 00:26:43 -0500 (Thu, 20 Feb 2025) EllapsedTime: 10.4 seconds RetCode: 0 Status: OK PackageFile: ComPrAn_1.15.0.tgz PackageFileSize: 2.561 MiB