Package: Cogito Version: 1.13.0 Command: /Library/Frameworks/R.framework/Resources/bin/R CMD check --install=check:Cogito.install-out.txt --library=/Library/Frameworks/R.framework/Resources/library --no-vignettes --timings Cogito_1.13.0.tar.gz StartedAt: 2025-02-20 19:37:02 -0500 (Thu, 20 Feb 2025) EndedAt: 2025-02-20 19:41:54 -0500 (Thu, 20 Feb 2025) EllapsedTime: 292.0 seconds RetCode: 0 Status: OK CheckDir: Cogito.Rcheck Warnings: 0