Package: CoSIA Version: 1.7.0 Command: /Library/Frameworks/R.framework/Resources/bin/R CMD build --keep-empty-dirs --no-resave-data CoSIA StartedAt: 2025-02-19 16:20:23 -0500 (Wed, 19 Feb 2025) EndedAt: 2025-02-19 16:22:36 -0500 (Wed, 19 Feb 2025) EllapsedTime: 132.4 seconds RetCode: 0 Status: OK PackageFile: CoSIA_1.7.0.tar.gz PackageFileSize: 1.166 MiB