Package: CoGAPS Version: 3.27.0 Command: /Library/Frameworks/R.framework/Resources/bin/R CMD build --keep-empty-dirs --no-resave-data CoGAPS StartedAt: 2025-02-19 16:17:33 -0500 (Wed, 19 Feb 2025) EndedAt: 2025-02-19 16:24:32 -0500 (Wed, 19 Feb 2025) EllapsedTime: 419.2 seconds RetCode: 0 Status: OK PackageFile: CoGAPS_3.27.0.tar.gz PackageFileSize: 19.9 MiB