Package: CoGAPS Version: 3.27.0 Command: /Library/Frameworks/R.framework/Resources/bin/R CMD INSTALL CoGAPS StartedAt: 2025-02-19 15:22:01 -0500 (Wed, 19 Feb 2025) EndedAt: 2025-02-19 15:22:35 -0500 (Wed, 19 Feb 2025) EllapsedTime: 33.9 seconds RetCode: 0 Status: OK