Package: CoGAPS Version: 3.27.0 Command: rm -rf CoGAPS.buildbin-libdir && mkdir CoGAPS.buildbin-libdir && /Users/biocbuild/BBS/utils/build-universal.sh CoGAPS_3.27.0.tar.gz /Library/Frameworks/R.framework/Resources/bin/R CoGAPS.buildbin-libdir StartedAt: 2025-02-20 22:14:29 -0500 (Thu, 20 Feb 2025) EndedAt: 2025-02-20 22:15:09 -0500 (Thu, 20 Feb 2025) EllapsedTime: 39.8 seconds RetCode: 0 Status: OK PackageFile: CoGAPS_3.27.0.tgz PackageFileSize: 20.34 MiB