Package: CoCiteStats Version: 1.79.0 Command: /home/biocbuild/bbs-3.21-bioc/R/bin/R CMD check --install=check:CoCiteStats.install-out.txt --library=/home/biocbuild/bbs-3.21-bioc/R/site-library --timings CoCiteStats_1.79.0.tar.gz StartedAt: 2025-02-17 20:55:22 -0500 (Mon, 17 Feb 2025) EndedAt: 2025-02-17 20:59:04 -0500 (Mon, 17 Feb 2025) EllapsedTime: 222.3 seconds RetCode: 0 Status: OK CheckDir: CoCiteStats.Rcheck Warnings: 0