Package: CoCiteStats Version: 1.79.0 Command: /Library/Frameworks/R.framework/Resources/bin/R CMD check --install=check:CoCiteStats.install-out.txt --library=/Library/Frameworks/R.framework/Resources/library --no-vignettes --timings CoCiteStats_1.79.0.tar.gz StartedAt: 2025-02-17 18:35:17 -0500 (Mon, 17 Feb 2025) EndedAt: 2025-02-17 18:36:59 -0500 (Mon, 17 Feb 2025) EllapsedTime: 102.1 seconds RetCode: 0 Status: OK CheckDir: CoCiteStats.Rcheck Warnings: 0