Package: ClusterSignificance Version: 1.35.0 Command: E:\biocbuild\bbs-3.21-bioc\R\bin\R.exe CMD INSTALL ClusterSignificance StartedAt: 2025-02-20 15:20:36 -0500 (Thu, 20 Feb 2025) EndedAt: 2025-02-20 15:23:19 -0500 (Thu, 20 Feb 2025) EllapsedTime: 163.8 seconds RetCode: 0 Status: OK