Package: ClusterSignificance Version: 1.35.0 Command: /Library/Frameworks/R.framework/Resources/bin/R CMD build --keep-empty-dirs --no-resave-data ClusterSignificance StartedAt: 2025-02-20 16:15:59 -0500 (Thu, 20 Feb 2025) EndedAt: 2025-02-20 16:17:11 -0500 (Thu, 20 Feb 2025) EllapsedTime: 71.1 seconds RetCode: 0 Status: OK PackageFile: ClusterSignificance_1.35.0.tar.gz PackageFileSize: 2.107 MiB