Package: ClusterSignificance Version: 1.35.0 Command: /home/biocbuild/R/R/bin/R CMD INSTALL ClusterSignificance StartedAt: 2025-01-29 19:33:30 -0000 (Wed, 29 Jan 2025) EndedAt: 2025-01-29 19:33:58 -0000 (Wed, 29 Jan 2025) EllapsedTime: 28.2 seconds RetCode: 0 Status: OK