Package: ClusterSignificance Version: 1.35.0 Command: /Library/Frameworks/R.framework/Resources/bin/R CMD INSTALL ClusterSignificance StartedAt: 2025-02-20 15:02:32 -0500 (Thu, 20 Feb 2025) EndedAt: 2025-02-20 15:02:36 -0500 (Thu, 20 Feb 2025) EllapsedTime: 3.9 seconds RetCode: 0 Status: OK