Package: ClusterSignificance Version: 1.35.0 Command: rm -rf ClusterSignificance.buildbin-libdir && mkdir ClusterSignificance.buildbin-libdir && /Users/biocbuild/BBS/utils/build-universal.sh ClusterSignificance_1.35.0.tar.gz /Library/Frameworks/R.framework/Resources/bin/R ClusterSignificance.buildbin-libdir StartedAt: 2025-02-20 22:14:14 -0500 (Thu, 20 Feb 2025) EndedAt: 2025-02-20 22:14:16 -0500 (Thu, 20 Feb 2025) EllapsedTime: 2.0 seconds RetCode: 0 Status: OK PackageFile: ClusterSignificance_1.35.0.tgz PackageFileSize: 2.308 MiB