Package: ClusterJudge Version: 1.29.1 Command: /home/biocbuild/bbs-3.21-bioc/R/bin/R CMD check --install=check:ClusterJudge.install-out.txt --library=/home/biocbuild/bbs-3.21-bioc/R/site-library --timings ClusterJudge_1.29.1.tar.gz StartedAt: 2025-02-17 20:51:20 -0500 (Mon, 17 Feb 2025) EndedAt: 2025-02-17 20:54:28 -0500 (Mon, 17 Feb 2025) EllapsedTime: 188.3 seconds RetCode: 0 Status: OK CheckDir: ClusterJudge.Rcheck Warnings: 0