Package: ClusterJudge Version: 1.29.1 Command: /Library/Frameworks/R.framework/Resources/bin/R CMD build --keep-empty-dirs --no-resave-data ClusterJudge StartedAt: 2025-02-17 16:15:33 -0500 (Mon, 17 Feb 2025) EndedAt: 2025-02-17 16:16:29 -0500 (Mon, 17 Feb 2025) EllapsedTime: 56.0 seconds RetCode: 0 Status: OK PackageFile: ClusterJudge_1.29.1.tar.gz PackageFileSize: 958.9 KiB