Package: ClusterJudge Version: 1.29.1 Command: /Library/Frameworks/R.framework/Resources/bin/R CMD INSTALL ClusterJudge StartedAt: 2025-02-17 15:03:47 -0500 (Mon, 17 Feb 2025) EndedAt: 2025-02-17 15:03:48 -0500 (Mon, 17 Feb 2025) EllapsedTime: 1.6 seconds RetCode: 0 Status: OK