Package: ClusterJudge Version: 1.29.1 Command: /Library/Frameworks/R.framework/Resources/bin/R CMD check --install=check:ClusterJudge.install-out.txt --library=/Library/Frameworks/R.framework/Resources/library --no-vignettes --timings ClusterJudge_1.29.1.tar.gz StartedAt: 2025-02-17 18:33:18 -0500 (Mon, 17 Feb 2025) EndedAt: 2025-02-17 18:34:39 -0500 (Mon, 17 Feb 2025) EllapsedTime: 81.0 seconds RetCode: 0 Status: OK CheckDir: ClusterJudge.Rcheck Warnings: 0