Package: ClusterJudge Version: 1.29.1 Command: /Library/Frameworks/R.framework/Resources/bin/R CMD build --keep-empty-dirs --no-resave-data ClusterJudge StartedAt: 2025-02-17 15:55:21 -0500 (Mon, 17 Feb 2025) EndedAt: 2025-02-17 15:55:44 -0500 (Mon, 17 Feb 2025) EllapsedTime: 22.2 seconds RetCode: 0 Status: OK PackageFile: ClusterJudge_1.29.1.tar.gz PackageFileSize: 957.6 KiB