Package: ClusterFoldSimilarity Version: 1.3.0 Command: E:\biocbuild\bbs-3.21-bioc\R\bin\R.exe CMD check --no-multiarch --install=check:ClusterFoldSimilarity.install-out.txt --library=E:\biocbuild\bbs-3.21-bioc\R\library --no-vignettes --timings ClusterFoldSimilarity_1.3.0.tar.gz StartedAt: 2025-02-20 23:56:22 -0500 (Thu, 20 Feb 2025) EndedAt: 2025-02-21 00:01:07 -0500 (Fri, 21 Feb 2025) EllapsedTime: 285.1 seconds RetCode: 0 Status: WARNINGS CheckDir: ClusterFoldSimilarity.Rcheck Warnings: 1