Package: ClusterFoldSimilarity Version: 1.3.0 Command: chmod a+r ClusterFoldSimilarity -R && E:\biocbuild\bbs-3.21-bioc\R\bin\R.exe CMD build --keep-empty-dirs --no-resave-data ClusterFoldSimilarity StartedAt: 2025-02-20 17:57:48 -0500 (Thu, 20 Feb 2025) EndedAt: 2025-02-20 18:09:43 -0500 (Thu, 20 Feb 2025) EllapsedTime: 714.9 seconds RetCode: 0 Status: OK PackageFile: ClusterFoldSimilarity_1.3.0.tar.gz PackageFileSize: 860.7 KiB