Package: ClusterFoldSimilarity Version: 1.3.0 Command: rm -rf ClusterFoldSimilarity.buildbin-libdir && mkdir ClusterFoldSimilarity.buildbin-libdir && E:\biocbuild\bbs-3.21-bioc\R\bin\R.exe CMD INSTALL --build --library=ClusterFoldSimilarity.buildbin-libdir ClusterFoldSimilarity_1.3.0.tar.gz StartedAt: 2025-02-21 07:48:52 -0500 (Fri, 21 Feb 2025) EndedAt: 2025-02-21 07:51:31 -0500 (Fri, 21 Feb 2025) EllapsedTime: 158.2 seconds RetCode: 0 Status: OK PackageFile: ClusterFoldSimilarity_1.3.0.zip PackageFileSize: 890.6 KiB