Package: ClusterFoldSimilarity Version: 1.3.0 Command: /home/biocbuild/bbs-3.21-bioc/R/bin/R CMD INSTALL ClusterFoldSimilarity StartedAt: 2025-02-20 15:31:21 -0500 (Thu, 20 Feb 2025) EndedAt: 2025-02-20 15:31:55 -0500 (Thu, 20 Feb 2025) EllapsedTime: 33.9 seconds RetCode: 0 Status: OK