Package: ClusterFoldSimilarity Version: 1.3.0 Command: /home/biocbuild/bbs-3.21-bioc/R/bin/R CMD check --install=check:ClusterFoldSimilarity.install-out.txt --library=/home/biocbuild/bbs-3.21-bioc/R/site-library --timings ClusterFoldSimilarity_1.3.0.tar.gz StartedAt: 2025-02-21 21:13:11 -0500 (Fri, 21 Feb 2025) EndedAt: 2025-02-21 21:25:14 -0500 (Fri, 21 Feb 2025) EllapsedTime: 723.1 seconds RetCode: 0 Status: WARNINGS CheckDir: ClusterFoldSimilarity.Rcheck Warnings: 1