Package: ClusterFoldSimilarity Version: 1.3.0 Command: /Library/Frameworks/R.framework/Resources/bin/R CMD INSTALL ClusterFoldSimilarity StartedAt: 2025-02-20 15:35:09 -0500 (Thu, 20 Feb 2025) EndedAt: 2025-02-20 15:35:56 -0500 (Thu, 20 Feb 2025) EllapsedTime: 47.2 seconds RetCode: 0 Status: OK