Package: ClusterFoldSimilarity Version: 1.3.0 Command: /Library/Frameworks/R.framework/Resources/bin/R CMD build --keep-empty-dirs --no-resave-data ClusterFoldSimilarity StartedAt: 2025-02-20 16:15:27 -0500 (Thu, 20 Feb 2025) EndedAt: 2025-02-20 16:23:57 -0500 (Thu, 20 Feb 2025) EllapsedTime: 509.6 seconds RetCode: 0 Status: OK PackageFile: ClusterFoldSimilarity_1.3.0.tar.gz PackageFileSize: 1.671 MiB