Package: ClusterFoldSimilarity Version: 1.3.0 Command: /Library/Frameworks/R.framework/Resources/bin/R CMD check --install=check:ClusterFoldSimilarity.install-out.txt --library=/Library/Frameworks/R.framework/Resources/library --no-vignettes --timings ClusterFoldSimilarity_1.3.0.tar.gz StartedAt: 2025-02-20 18:34:16 -0500 (Thu, 20 Feb 2025) EndedAt: 2025-02-20 18:35:50 -0500 (Thu, 20 Feb 2025) EllapsedTime: 94.1 seconds RetCode: 0 Status: WARNINGS CheckDir: ClusterFoldSimilarity.Rcheck Warnings: 1