Package: ClustIRR Version: 1.5.41 Command: /Library/Frameworks/R.framework/Resources/bin/R CMD build --keep-empty-dirs --no-resave-data ClustIRR StartedAt: 2025-02-19 16:16:28 -0500 (Wed, 19 Feb 2025) EndedAt: 2025-02-19 16:21:09 -0500 (Wed, 19 Feb 2025) EllapsedTime: 281.3 seconds RetCode: 0 Status: OK PackageFile: ClustIRR_1.5.41.tar.gz PackageFileSize: 3.329 MiB