Package: ClustIRR Version: 1.5.39 Command: /home/biocbuild/R/R/bin/R CMD INSTALL ClustIRR StartedAt: 2025-01-29 20:05:24 -0000 (Wed, 29 Jan 2025) EndedAt: 2025-01-29 20:10:44 -0000 (Wed, 29 Jan 2025) EllapsedTime: 319.7 seconds RetCode: 1 Status: ERROR