Package: ClustIRR Version: 1.5.39 Maintainer: Simo Kitanovski MaintainerEmail: simokitanovski at gmail.com git_url: https://git.bioconductor.org/packages/ClustIRR git_branch: devel git_last_commit: bf0fdba git_last_commit_date: 2025-01-23 10:24:52 -0500 (Thu, 23 Jan 2025)