Package: ClustAll Version: 1.3.0 Command: E:\biocbuild\bbs-3.21-bioc\R\bin\R.exe CMD check --no-multiarch --install=check:ClustAll.install-out.txt --library=E:\biocbuild\bbs-3.21-bioc\R\library --no-vignettes --timings ClustAll_1.3.0.tar.gz StartedAt: 2025-02-20 23:55:15 -0500 (Thu, 20 Feb 2025) EndedAt: 2025-02-20 23:59:16 -0500 (Thu, 20 Feb 2025) EllapsedTime: 241.5 seconds RetCode: 0 Status: OK CheckDir: ClustAll.Rcheck Warnings: 0