Package: ClustAll Version: 1.3.0 Command: chmod a+r ClustAll -R && E:\biocbuild\bbs-3.21-bioc\R\bin\R.exe CMD build --keep-empty-dirs --no-resave-data ClustAll StartedAt: 2025-02-20 17:57:42 -0500 (Thu, 20 Feb 2025) EndedAt: 2025-02-20 18:02:14 -0500 (Thu, 20 Feb 2025) EllapsedTime: 271.9 seconds RetCode: 0 Status: OK PackageFile: ClustAll_1.3.0.tar.gz PackageFileSize: 2.776 MiB