Package: ClustAll Version: 1.3.0 Command: /home/biocbuild/bbs-3.21-bioc/R/bin/R CMD check --install=check:ClustAll.install-out.txt --library=/home/biocbuild/bbs-3.21-bioc/R/site-library --timings ClustAll_1.3.0.tar.gz StartedAt: 2025-02-19 20:55:18 -0500 (Wed, 19 Feb 2025) EndedAt: 2025-02-19 21:02:17 -0500 (Wed, 19 Feb 2025) EllapsedTime: 419.7 seconds RetCode: 0 Status: OK CheckDir: ClustAll.Rcheck Warnings: 0