Package: ClustAll Version: 1.3.0 Command: /home/biocbuild/bbs-3.21-bioc/R/bin/R CMD build --keep-empty-dirs --no-resave-data ClustAll StartedAt: 2025-02-19 16:41:01 -0500 (Wed, 19 Feb 2025) EndedAt: 2025-02-19 16:45:09 -0500 (Wed, 19 Feb 2025) EllapsedTime: 247.3 seconds RetCode: 0 Status: OK PackageFile: ClustAll_1.3.0.tar.gz PackageFileSize: 2.947 MiB