Package: ClustAll Version: 1.3.0 Command: /Library/Frameworks/R.framework/Resources/bin/R CMD INSTALL ClustAll StartedAt: 2025-02-20 15:36:58 -0500 (Thu, 20 Feb 2025) EndedAt: 2025-02-20 15:37:30 -0500 (Thu, 20 Feb 2025) EllapsedTime: 31.6 seconds RetCode: 0 Status: OK