Package: CluMSID Version: 1.23.0 Command: rm -rf CluMSID.buildbin-libdir && mkdir CluMSID.buildbin-libdir && E:\biocbuild\bbs-3.21-bioc\R\bin\R.exe CMD INSTALL --build --library=CluMSID.buildbin-libdir CluMSID_1.23.0.tar.gz StartedAt: 2025-02-20 07:30:34 -0500 (Thu, 20 Feb 2025) EndedAt: 2025-02-20 07:31:34 -0500 (Thu, 20 Feb 2025) EllapsedTime: 60.4 seconds RetCode: 0 Status: OK PackageFile: CluMSID_1.23.0.zip PackageFileSize: 3.518 MiB