Package: CluMSID Version: 1.23.0 Command: /home/biocbuild/bbs-3.21-bioc/R/bin/R CMD INSTALL CluMSID StartedAt: 2025-02-18 15:34:42 -0500 (Tue, 18 Feb 2025) EndedAt: 2025-02-18 15:35:21 -0500 (Tue, 18 Feb 2025) EllapsedTime: 38.6 seconds RetCode: 0 Status: OK