Package: CluMSID Version: 1.23.0 Command: /home/biocbuild/bbs-3.21-bioc/R/bin/R CMD build --keep-empty-dirs --no-resave-data CluMSID StartedAt: 2025-02-18 16:37:29 -0500 (Tue, 18 Feb 2025) EndedAt: 2025-02-18 16:42:58 -0500 (Tue, 18 Feb 2025) EllapsedTime: 329.4 seconds RetCode: 0 Status: OK PackageFile: CluMSID_1.23.0.tar.gz PackageFileSize: 4.477 MiB